BEGIN:VCALENDAR
VERSION:2.0
PRODID:icalendar-ruby
CALSCALE:GREGORIAN
METHOD:PUBLISH
BEGIN:VEVENT
DTSTAMP:20260422T224555Z
UID:1-683396@wentworthbaptist.ca
DTSTART:20261025T141500Z
DTEND:20261025T154500Z
CLASS:PUBLIC
CREATED:20260422T155804
DESCRIPTION:Prayer at the Cross begins at 10am\,\nbefore our Worship Servic
 e at 10:15 am.\n 
LAST-MODIFIED:20260422T155804
LOCATION:601 Burlington Street East\, Hamilton\, ON.
SUMMARY:Worship
URL;VALUE=URI:https://www.wentworthbaptist.ca/events/worship/2026-10-25
ATTACH;FILENAME=wentworth sign 3.jpg;FMTTYPE=image/jpeg:https://dq5pwpg1q8r
 u0.cloudfront.net/2026/01/09/22/29/33/4b263b14-4ef9-4b11-b3f3-42b5c4516c10
 /wentworth%20sign%203.jpg
END:VEVENT
END:VCALENDAR
